BEGIN:VCALENDAR
VERSION:2.0
PRODID:-//wp-events-plugin.com//7.2.3.1//EN
BEGIN:VEVENT
UID:3125@centrumpoppys.nl
DTSTART;TZID=Europe/Amsterdam:20250805T133000
DTEND;TZID=Europe/Amsterdam:20250805T153000
DTSTAMP:20250804T184607Z
URL:https://centrumpoppys.nl/events/achtertuin/
SUMMARY:Koffie 'In de Achtertuin'
DESCRIPTION:☕ Op de koffie bij Poppy’s – maar dan buiten 'In De Achte
 rtuin' ! Op dinsdagmiddag 5 augustus gaan we gezellig een bakske doen bij 
 onze achterburen in restaurant In De Achtertuin. Het gastteam sluit ook ge
 zellig aan.\nHet restaurant In De Achtertuin met terras bevindt zich achte
 r een prachtig 19e-eeuws herenhuis aan de Leijsenhoek. Zelfs binnen voelt 
 het alsof je buiten zit\, dankzij de vele ramen\, het natuurlijke licht en
  de planten!\nWe verzamelen om 13:30 uur bij Poppy’s en wandelen samen n
 aar de Leijsenhoek.  Poppy's trakteert op twee rondes koffie\, thee of fr
 is.\nKom je ook genieten van deze unieke\, sfeervolle plek? Meld je dan aa
 n via het formulier.
ATTACH;FMTTYPE=image/jpeg:https://centrumpoppys.nl/wp-content/uploads/2025
 /07/IndeAchtertuin.jpg
LOCATION:In De Achtertuin\, Leijsenhoek 2\, Oosterhout\, 4901 ET\, Nederlan
 d
GEO:51.644617;4.862341
X-APPLE-STRUCTURED-LOCATION;VALUE=URI;X-ADDRESS=Leijsenhoek 2\, Oosterhout\
 , 4901 ET\, Nederland;X-APPLE-RADIUS=100;X-TITLE=In De Achtertuin:geo:51.6
 44617,4.862341
END:VEVENT
BEGIN:VTIMEZONE
TZID:Europe/Amsterdam
X-LIC-LOCATION:Europe/Amsterdam
BEGIN:DAYLIGHT
DTSTART:20250330T030000
TZOFFSETFROM:+0100
TZOFFSETTO:+0200
TZNAME:CEST
END:DAYLIGHT
END:VTIMEZONE
END:VCALENDAR