BEGIN:VCALENDAR
VERSION:2.0
PRODID:-//wp-events-plugin.com//7.2.3.1//EN
BEGIN:VEVENT
UID:3178@centrumpoppys.nl
DTSTART:20250902T133000Z
DTEND:20250902T150000Z
DTSTAMP:20250813T133937Z
URL:https://centrumpoppys.nl/events/kennismaken-met-yoga/
SUMMARY:Kennismaken met yoga
DESCRIPTION:Yoga Oosterhout\n\nZowel in Oosterhout als in Dongen bieden we 
 (stoel)yoga aan. Deze lessen zijn speciaal voor mensen die geraakt zijn do
 or kanker. Je kunt bij elke les instromen\, ook als je al bekend bent met 
 yoga\, ben je van harte welkom.\n\n&nbsp\;\n\nYoga op maat\n\nOnder profes
 sionele begeleiding kun je genieten van zachte\, ontspannen yoga die volle
 dig wordt afgestemd op jouw mogelijkheden. Of je nu herstellende bent van 
 een behandeling\, last hebt van vermoeidheid of gewoon behoefte hebt aan o
 ntspanning\, deze lessen zijn geschikt voor iedereen. Na elke les is er ru
 imte om na te praten met een kopje thee.\n\n&nbsp\;\n\nErvaringen van deel
 nemers\n\nDeelnemers aan (stoel)yoga delen enthousiast hun ervaringen. Zo 
 vertelt iemand: “Ik vind het heerlijk\, ik slaap heel goed daarna.” Ee
 n ander omschrijft het als “ontspannend en ik word wat soepeler.” Vele
 n ervaren het ook als “fijn een moment voor jezelf.” Bovendien wordt d
 e yoga als een laagdrempelige en toegankelijke activiteit ervaren.\n\n&nbs
 p\;\n\nPraktische informatie\n\nDe lessen in Oosterhout zijn elke dinsdagm
 iddag van 14:00 – 15:00 bij Poppy’s Mathildastraat 69\, Oosterhout. Op
  de eerste les in Oosterhout na de zomerstop (2 september) start docent Pi
 et van de Pluijm met een toelichting op onze yogalessen. De les op 2 septe
 mber start daarom om 13:30 uur.\n\n&nbsp\;\n\nKosten en aanmelden\n\nElke 
 les kost € 5\,-.  Wil jij meedoen? Meld je dan per datum via het formul
 ier.
ATTACH;FMTTYPE=image/jpeg:https://centrumpoppys.nl/wp-content/uploads/2025
 /08/yoga.jpg
CATEGORIES:Hoofd leeg,Ontspanning
LOCATION:Poppy's centrum voor leven met en na kanker\, Mathildastraat 69\, 
 Oosterhout\, 4901 HC\, Nederland
GEO:51.644915;4.864475
X-APPLE-STRUCTURED-LOCATION;VALUE=URI;X-ADDRESS=Mathildastraat 69\, Oosterh
 out\, 4901 HC\, Nederland;X-APPLE-RADIUS=100;X-TITLE=Poppy's centrum voor 
 leven met en na kanker:geo:51.644915,4.864475
END:VEVENT
END:VCALENDAR