BEGIN:VCALENDAR
VERSION:2.0
PRODID:-//wp-events-plugin.com//7.2.3.1//EN
BEGIN:VEVENT
UID:3152@centrumpoppys.nl
DTSTART;TZID=Europe/Amsterdam:20250821T100000
DTEND;TZID=Europe/Amsterdam:20250821T120000
DTSTAMP:20250813T142420Z
URL:https://centrumpoppys.nl/events/muziekworkshop/
SUMMARY:Muzikale workshop - Op reis met een vrolijke Toon
DESCRIPTION:Op reis met een vrolijke Toon\nOnze maandelijkse muziekochtend 
 krijgt deze keer een zomers tintje! De Oosterhoutse muzikant Toon Oomen ne
 emt je mee op een inspirerende muzikale reis\, vol klanken\, ritmes en ple
 zier.\nTijdens de workshop ga je zelf muziek maken op een speelse en laagd
 rempelige manier. Je hoeft geen ervaring te hebben: elke klank is goed\, e
 n iedereen kan meedoen\, want muziek draait niet om perfectie\, maar om ve
 rbinding en plezier.\nDeelname is gratis\, maar wel graag aanmelden via on
 derstaand formulier
ATTACH;FMTTYPE=image/jpeg:https://centrumpoppys.nl/wp-content/uploads/2025
 /07/toon.jpg
LOCATION:Centrum Poppy\\'s\, Mathildastraat 69\, Oosterhout\, Noord-Brabant
 \, 4901 HC\, Nederland
GEO:51.644905;4.864470
X-APPLE-STRUCTURED-LOCATION;VALUE=URI;X-ADDRESS=Mathildastraat 69\, Oosterh
 out\, Noord-Brabant\, 4901 HC\, Nederland;X-APPLE-RADIUS=100;X-TITLE=Centr
 um Poppy\\'s:geo:51.644905,4.864470
END:VEVENT
BEGIN:VTIMEZONE
TZID:Europe/Amsterdam
X-LIC-LOCATION:Europe/Amsterdam
BEGIN:DAYLIGHT
DTSTART:20250330T030000
TZOFFSETFROM:+0100
TZOFFSETTO:+0200
TZNAME:CEST
END:DAYLIGHT
END:VTIMEZONE
END:VCALENDAR