BEGIN:VCALENDAR
VERSION:2.0
PRODID:-//wp-events-plugin.com//7.2.3.1//EN
BEGIN:VEVENT
UID:3127@centrumpoppys.nl
DTSTART;TZID=Europe/Amsterdam:20250807T100000
DTEND;TZID=Europe/Amsterdam:20250807T120000
DTSTAMP:20250710T122620Z
URL:https://centrumpoppys.nl/events/schelpen/
SUMMARY:Creatieve workshop: onderwaterwereld met schelpen
DESCRIPTION:Zin in een zomers moment vol creativiteit? Doe mee aan onze cre
 atieve workshop met als thema: Onderwaterwereld met Schelpen. We maken kle
 urrijke kunstwerkjes van schelpen\, zand en andere (natuurlijke) materiale
 n. De benodigdheden liggen klaar\, maar voel je vrij om eigen materialen m
 ee te nemen.\nWil je meedoen? Meld je dan aan via het formulier. We vragen
  een bijdrage van €5 per persoon.
ATTACH;FMTTYPE=image/jpeg:https://centrumpoppys.nl/wp-content/uploads/2025
 /07/schelpenonderwaterwereld.jpeg
LOCATION:Centrum Poppy\\'s\, Mathildastraat 69\, Oosterhout\, Noord-Brabant
 \, 4901 HC\, Nederland
GEO:51.644905;4.864470
X-APPLE-STRUCTURED-LOCATION;VALUE=URI;X-ADDRESS=Mathildastraat 69\, Oosterh
 out\, Noord-Brabant\, 4901 HC\, Nederland;X-APPLE-RADIUS=100;X-TITLE=Centr
 um Poppy\\'s:geo:51.644905,4.864470
END:VEVENT
BEGIN:VTIMEZONE
TZID:Europe/Amsterdam
X-LIC-LOCATION:Europe/Amsterdam
BEGIN:DAYLIGHT
DTSTART:20250330T030000
TZOFFSETFROM:+0100
TZOFFSETTO:+0200
TZNAME:CEST
END:DAYLIGHT
END:VTIMEZONE
END:VCALENDAR