BEGIN:VCALENDAR
VERSION:2.0
PRODID:-//wp-events-plugin.com//7.2.3.1//EN
BEGIN:VEVENT
UID:3118@centrumpoppys.nl
DTSTART;TZID=Europe/Amsterdam:20250729T133000
DTEND;TZID=Europe/Amsterdam:20250729T153000
DTSTAMP:20250728T134801Z
URL:https://centrumpoppys.nl/events/zomerbingo/
SUMMARY:Zomerbingo
DESCRIPTION:Zomerse Bingo!\nNa onze sluiting van twee weken starten we op d
 insdagmiddag 29 juli met een gezellige zomerse bingo!\n\nDeelname is grati
 s\, maar we vragen je om per persoon een prijsje mee te nemen van maximaal
  €5\,- bij voorkeur in het thema zomer. Zo maken we er samen een leuke e
 n verrassende middag van.\n\nSchrijf je in via het formulier\, neem een ve
 rrassend prijsje mee en kom genieten.
ATTACH;FMTTYPE=image/jpeg:https://centrumpoppys.nl/wp-content/uploads/2025
 /07/bingo-491228_1280.jpg
LOCATION:Centrum Poppy\\'s\, Mathildastraat 69\, Oosterhout\, Noord-Brabant
 \, 4901 HC\, Nederland
GEO:51.644905;4.864470
X-APPLE-STRUCTURED-LOCATION;VALUE=URI;X-ADDRESS=Mathildastraat 69\, Oosterh
 out\, Noord-Brabant\, 4901 HC\, Nederland;X-APPLE-RADIUS=100;X-TITLE=Centr
 um Poppy\\'s:geo:51.644905,4.864470
END:VEVENT
BEGIN:VTIMEZONE
TZID:Europe/Amsterdam
X-LIC-LOCATION:Europe/Amsterdam
BEGIN:DAYLIGHT
DTSTART:20250330T030000
TZOFFSETFROM:+0100
TZOFFSETTO:+0200
TZNAME:CEST
END:DAYLIGHT
END:VTIMEZONE
END:VCALENDAR